BEGIN:VCALENDAR
VERSION:2.0
PRODID:-//Luzius and Friends GmbH - ECPv6.15.20//NONSGML v1.0//EN
CALSCALE:GREGORIAN
METHOD:PUBLISH
X-WR-CALNAME:Luzius and Friends GmbH
X-ORIGINAL-URL:https://oldtimermanufaktur-laf.com
X-WR-CALDESC:Veranstaltungen für Luzius and Friends GmbH
REFRESH-INTERVAL;VALUE=DURATION:PT1H
X-Robots-Tag:noindex
X-PUBLISHED-TTL:PT1H
BEGIN:VTIMEZONE
TZID:Europe/Berlin
BEGIN:DAYLIGHT
TZOFFSETFROM:+0100
TZOFFSETTO:+0200
TZNAME:CEST
DTSTART:20250330T010000
END:DAYLIGHT
BEGIN:STANDARD
TZOFFSETFROM:+0200
TZOFFSETTO:+0100
TZNAME:CET
DTSTART:20251026T010000
END:STANDARD
BEGIN:DAYLIGHT
TZOFFSETFROM:+0100
TZOFFSETTO:+0200
TZNAME:CEST
DTSTART:20260329T010000
END:DAYLIGHT
BEGIN:STANDARD
TZOFFSETFROM:+0200
TZOFFSETTO:+0100
TZNAME:CET
DTSTART:20261025T010000
END:STANDARD
BEGIN:DAYLIGHT
TZOFFSETFROM:+0100
TZOFFSETTO:+0200
TZNAME:CEST
DTSTART:20270328T010000
END:DAYLIGHT
BEGIN:STANDARD
TZOFFSETFROM:+0200
TZOFFSETTO:+0100
TZNAME:CET
DTSTART:20271031T010000
END:STANDARD
END:VTIMEZONE
BEGIN:VEVENT
DTSTART;TZID=Europe/Berlin:20260516T130000
DTEND;TZID=Europe/Berlin:20260516T170000
DTSTAMP:20260421T145511
CREATED:20251031T145101Z
LAST-MODIFIED:20251111T141939Z
UID:5114-1778936400-1778950800@oldtimermanufaktur-laf.com
SUMMARY:Pagoden-Stammtisch "Breisgau-Hochschwarzwald"
DESCRIPTION:Einladung zum Pagoden-Stammtisch Breisgau-Hochschwarzwald: In Kooperation mit dem Mercedes–SL Club Pagode e.V. laden wir alle Liebhaber klassischer Mercedes SL Pagoden zu einem besonderen Treffen ein. \nFreut euch auf inspirierenden Austausch\, spannende Gespräche und die gemeinsame Leidenschaft für diese zeitlosen Fahrzeuge.
URL:https://oldtimermanufaktur-laf.com/event/pagoden-stammtisch/
LOCATION:LUZIUS AND FRIENDS GMBH\, Brunnmattenstr. 8\, Ehrenkirchen\, Baden-Württemberg\, 79238
ORGANIZER;CN="LUZIUS AND FRIENDS":MAILTO:j.gautier@oldtimermanufaktur-laf.com
END:VEVENT
END:VCALENDAR