BEGIN:VCALENDAR
VERSION:2.0
PRODID:-//Luzius and Friends GmbH - ECPv6.15.20//NONSGML v1.0//EN
CALSCALE:GREGORIAN
METHOD:PUBLISH
X-WR-CALNAME:Luzius and Friends GmbH
X-ORIGINAL-URL:https://oldtimermanufaktur-laf.com
X-WR-CALDESC:Veranstaltungen für Luzius and Friends GmbH
REFRESH-INTERVAL;VALUE=DURATION:PT1H
X-Robots-Tag:noindex
X-PUBLISHED-TTL:PT1H
BEGIN:VTIMEZONE
TZID:Europe/Berlin
BEGIN:DAYLIGHT
TZOFFSETFROM:+0100
TZOFFSETTO:+0200
TZNAME:CEST
DTSTART:20250330T010000
END:DAYLIGHT
BEGIN:STANDARD
TZOFFSETFROM:+0200
TZOFFSETTO:+0100
TZNAME:CET
DTSTART:20251026T010000
END:STANDARD
BEGIN:DAYLIGHT
TZOFFSETFROM:+0100
TZOFFSETTO:+0200
TZNAME:CEST
DTSTART:20260329T010000
END:DAYLIGHT
BEGIN:STANDARD
TZOFFSETFROM:+0200
TZOFFSETTO:+0100
TZNAME:CET
DTSTART:20261025T010000
END:STANDARD
BEGIN:DAYLIGHT
TZOFFSETFROM:+0100
TZOFFSETTO:+0200
TZNAME:CEST
DTSTART:20270328T010000
END:DAYLIGHT
BEGIN:STANDARD
TZOFFSETFROM:+0200
TZOFFSETTO:+0100
TZNAME:CET
DTSTART:20271031T010000
END:STANDARD
END:VTIMEZONE
BEGIN:VEVENT
DTSTART;TZID=Europe/Berlin:20260718T080000
DTEND;TZID=Europe/Berlin:20260718T233000
DTSTAMP:20260423T145207
CREATED:20251010T134043Z
LAST-MODIFIED:20251010T134343Z
UID:4813-1784361600-1784417400@oldtimermanufaktur-laf.com
SUMMARY:Southwest thrills: Porsche Special
DESCRIPTION:Save the Date: Eine exklusive Porsche–Tour durch den Schwarzwald. Genuss für den Gaumen\, Beats am Abend und eine Party\, die den Tag unvergesslich macht. \nGenauere Details gibts bald hier auf der Seite!
URL:https://oldtimermanufaktur-laf.com/event/southwest-thrills-porsche-special/
LOCATION:LUZIUS AND FRIENDS GMBH\, Brunnmattenstr. 8\, Ehrenkirchen\, Baden-Württemberg\, 79238
ORGANIZER;CN="LUZIUS AND FRIENDS":MAILTO:j.gautier@oldtimermanufaktur-laf.com
END:VEVENT
END:VCALENDAR