BEGIN:VCALENDAR
VERSION:2.0
PRODID:-//Luzius and Friends GmbH - ECPv6.15.20//NONSGML v1.0//EN
CALSCALE:GREGORIAN
METHOD:PUBLISH
X-WR-CALNAME:Luzius and Friends GmbH
X-ORIGINAL-URL:https://oldtimermanufaktur-laf.com
X-WR-CALDESC:Veranstaltungen für Luzius and Friends GmbH
REFRESH-INTERVAL;VALUE=DURATION:PT1H
X-Robots-Tag:noindex
X-PUBLISHED-TTL:PT1H
BEGIN:VTIMEZONE
TZID:Europe/Berlin
BEGIN:DAYLIGHT
TZOFFSETFROM:+0100
TZOFFSETTO:+0200
TZNAME:CEST
DTSTART:20250330T010000
END:DAYLIGHT
BEGIN:STANDARD
TZOFFSETFROM:+0200
TZOFFSETTO:+0100
TZNAME:CET
DTSTART:20251026T010000
END:STANDARD
BEGIN:DAYLIGHT
TZOFFSETFROM:+0100
TZOFFSETTO:+0200
TZNAME:CEST
DTSTART:20260329T010000
END:DAYLIGHT
BEGIN:STANDARD
TZOFFSETFROM:+0200
TZOFFSETTO:+0100
TZNAME:CET
DTSTART:20261025T010000
END:STANDARD
BEGIN:DAYLIGHT
TZOFFSETFROM:+0100
TZOFFSETTO:+0200
TZNAME:CEST
DTSTART:20270328T010000
END:DAYLIGHT
BEGIN:STANDARD
TZOFFSETFROM:+0200
TZOFFSETTO:+0100
TZNAME:CET
DTSTART:20271031T010000
END:STANDARD
END:VTIMEZONE
BEGIN:VEVENT
DTSTART;VALUE=DATE:20260808
DTEND;VALUE=DATE:20260810
DTSTAMP:20260423T144317
CREATED:20251218T103039Z
LAST-MODIFIED:20260107T151852Z
UID:5383-1786147200-1786319999@oldtimermanufaktur-laf.com
SUMMARY:Porsche Tour: Ladies on wheels!
DESCRIPTION:LET THE WEEKEND BEGIN! \n08-08-2026 | START 11:00 \nOrt: Luzius and Friends | Brunnmattenstraße 8 | 79238 Ehrenkirchen \nUnsere ca. 4-stündige Tour führt durch einige der schönsten Regionen Südbadens und des Schwarzwalds\, von Ehrenkirchen über das Münstertal\, Todtnau\, den Schluchsee und St. Blasien\, nach Überlingen und endet schließlich in Lippersreute. Wir bewegen uns überwiegend auf Landstraßen und ausgewählten Panoramarouten\, vorbei an kleinen Orten\, dichten Wäldern und weiten Ausblicken. Die abwechslungsreiche Strecke bietet Fahrspaß und beeindruckende Landschaften abseits der großen Verkehrsachsen. Den entspannten Abschluss bildet eine gemeinsame Übernachtung mit gemütlichem Ausklingen im Landgasthof Adler in Lippersreute. \n  \nCLOCK OUT & KICK BACK… \n08-08-2026 | ANKUNFT 16:00 \nOrt: Hotel: Landgasthof Adler | Hauptstraße 44 | 88662 Lippertsreute \nGegen 16:00 Uhr erreichen wir das Hotel und treffen uns um 18:00 zu einem gemeinsamen Abend: Bei köstlichem Essen\, Prosecco und lockerem Beisammensein verbringen wir Zeit miteinander\, plaudern und lassen den Tag entspannt und stimmungsvoll ausklingen. Ein perfekter Moment\, um aufzutanken und den Abend in bester Gesellschaft zu genießen. \n  \n09-08-2026 | ABREISE 11:00 \nNach dem gemeinsamen Frühstück am Sonntag lassen wir den Tag flexibel ausklingen. Wer möchte\, genießt noch einmal die Atmosphäre rund um den Bodensee\, bevor es am Nachmittag gemeinsam zurückgeht. Alternativ besteht die Möglichkeit\, individuell die Heimreise anzutreten. \n  \nJETZT BUCHEN…CHECK-IN… \nSICHER DIR EINEN DER EXKLUSIVEN LIMITIERTEN PLÄTZE! \nAnmeldung unter: j.gautier@luziusandfriends.com \nAnmeldefrist bis: 15. April 2026 \n  \nTeilnahmegebühr Freitag & Samstag (inkl. Übernachtung): \nFahrerin: 180\,00 € (Exkl. Abendessen & Getränke) \nBeifahrerin: 140\,00 € (Exkl. Abendessen & Getränke) \n  \nDie Teilnehmerzahl ist begrenzt auf 14 Personen in 7 Doppelzimmern. Bei der Buchung bitte mitangeben\, ob das Zimmer mit einer bekannten Beifahrerin oder einer noch unbekannten Teilnehmerin geteilt werden kann.
URL:https://oldtimermanufaktur-laf.com/event/porsche-roadtrip-women-only/
LOCATION:LUZIUS AND FRIENDS GMBH\, Brunnmattenstr. 8\, Ehrenkirchen\, Baden-Württemberg\, 79238
ORGANIZER;CN="LUZIUS AND FRIENDS":MAILTO:j.gautier@oldtimermanufaktur-laf.com
END:VEVENT
BEGIN:VEVENT
DTSTART;TZID=Europe/Berlin:20260819T170000
DTEND;TZID=Europe/Berlin:20260819T210000
DTSTAMP:20260423T144317
CREATED:20251010T131504Z
LAST-MODIFIED:20251208T130701Z
UID:4801-1787158800-1787173200@oldtimermanufaktur-laf.com
SUMMARY:Benzingespräche: Oldtimer-Vibes
DESCRIPTION:Oldtimer-Vibes\, glänzendes Chrom und jede Menge Leidenschaft – jeden dritten Mittwoch im Monat öffnen wir von 17:00 bis 21:00 Uhr die Tore unserer Oldtimermanufaktur und laden euch ein\, Teil einer lebendigen Szene zu werden. \nHier geht’s um mehr als nur Autos – es geht um Geschichten\, Charaktere und das Lebensgefühl\, das nur echtes Blech vermitteln kann. \nOb erfahrener Schrauber\, frisch infizierter Enthusiast oder einfach Fan klassischer Linien – bei uns ist jeder willkommen. In lockerer Atmosphäre wird gefachsimpelt\, gestaunt und gelacht. Ihr könnt euch über aktuelle Projekte austauschen oder einfach Benzinduft und gute Gespräche genießen. \nDie Benzingespräche sind ein Treffpunkt für echte Leidenschaft. Es zählt nicht\, wer das seltenste Modell hat – sondern\, dass die Funken überspringen. \nUnsere große Halle sorgt dafür\, dass das Event bei jedem Wetter stattfindet. Einfach mit eurem Oldtimer auf den Hof rollen\, Motor abstellen\, tief durchatmen – und ankommen. Keine Anmeldung\, kein Stress – nur pure Begeisterung für klassische Automobile. \nAlso: Bringt eure Geschichten\, Anekdoten und ein bisschen Patina mit.\nGemeinsam feiern wir das\, was uns verbindet – Benzingeruch\, Nostalgie und die Liebe zu zeitlosen Maschinen. \nWir freuen uns auf euch!
URL:https://oldtimermanufaktur-laf.com/event/benzingespraeche-oldtimer-vibes-24/
LOCATION:LUZIUS AND FRIENDS GMBH\, Brunnmattenstr. 8\, Ehrenkirchen\, Baden-Württemberg\, 79238
ORGANIZER;CN="LUZIUS AND FRIENDS":MAILTO:j.gautier@oldtimermanufaktur-laf.com
END:VEVENT
BEGIN:VEVENT
DTSTART;TZID=Europe/Berlin:20260822T120000
DTEND;TZID=Europe/Berlin:20260822T190000
DTSTAMP:20260423T144317
CREATED:20251010T134320Z
LAST-MODIFIED:20260113T135732Z
UID:4816-1787400000-1787425200@oldtimermanufaktur-laf.com
SUMMARY:Sternenausfahrt: Mercedes Special
DESCRIPTION:In Kooperation mit dem Mercedes–Benz SL–Club Pagode e.V. laden wir Euch herzlich ein zur „Sternenfahrt“–einer stilvollen Ausfahrt für Liebhaber klassischer Mercedes-Benz Fahrzeuge\, die Fahrfreude\, Genuss und Kultur auf besondere Weise verbindet. \nFreut Euch auf eine landschaftlich reizvolle Tour\, kulinarische Highlights\, spannende Begegnungen und ein stilvolles Zusammensein unter Gleichgesinnten–ganz im Zeichen des Sterns. \nWir starten entspannt um 12:00 Uhr in der Oldtimermanufaktur bei Luzius and Friends mit einem Kaffee und dem ersten Kennenlernen in den Tag. Gegen 13:00 Uhr brechen wir zur gemeinsamen Ausfahrt auf. \nAb 16:30 Uhr empfängt uns Merkles Restaurant nach der Ausfahrt zu einem kulinarischen und gemütlichen Abschluss. Freut Euch auf ein exquisites 3-Gänge-Menü in entspannter Atmosphäre. \nZiel: Merkles Restaurant | Hauptstr. 2 | 79346 Endingen \n  \nDer Kostenbeitrag beträgt 140\,00 € pro Person und beinhaltet: \n– das 3-Gänge-Menü inkl. Getränken\n– sowie die Organisation der Sternenfahrt \nAnmeldeschluss: 20.07.2026 \nBei Fragen bitte melden unter: \nJulia Gautier \nMail: j.gautier@luziusandfriends.com \nTel.: 0151 43259980
URL:https://oldtimermanufaktur-laf.com/event/sternenausfahrt-mercedes-special/
LOCATION:LUZIUS AND FRIENDS GMBH\, Brunnmattenstr. 8\, Ehrenkirchen\, Baden-Württemberg\, 79238
ORGANIZER;CN="LUZIUS AND FRIENDS":MAILTO:j.gautier@oldtimermanufaktur-laf.com
END:VEVENT
END:VCALENDAR