BEGIN:VCALENDAR
VERSION:2.0
PRODID:-//Luzius and Friends GmbH - ECPv6.15.20//NONSGML v1.0//EN
CALSCALE:GREGORIAN
METHOD:PUBLISH
X-WR-CALNAME:Luzius and Friends GmbH
X-ORIGINAL-URL:https://oldtimermanufaktur-laf.com
X-WR-CALDESC:Veranstaltungen für Luzius and Friends GmbH
REFRESH-INTERVAL;VALUE=DURATION:PT1H
X-Robots-Tag:noindex
X-PUBLISHED-TTL:PT1H
BEGIN:VTIMEZONE
TZID:Europe/Berlin
BEGIN:DAYLIGHT
TZOFFSETFROM:+0100
TZOFFSETTO:+0200
TZNAME:CEST
DTSTART:20250330T010000
END:DAYLIGHT
BEGIN:STANDARD
TZOFFSETFROM:+0200
TZOFFSETTO:+0100
TZNAME:CET
DTSTART:20251026T010000
END:STANDARD
BEGIN:DAYLIGHT
TZOFFSETFROM:+0100
TZOFFSETTO:+0200
TZNAME:CEST
DTSTART:20260329T010000
END:DAYLIGHT
BEGIN:STANDARD
TZOFFSETFROM:+0200
TZOFFSETTO:+0100
TZNAME:CET
DTSTART:20261025T010000
END:STANDARD
BEGIN:DAYLIGHT
TZOFFSETFROM:+0100
TZOFFSETTO:+0200
TZNAME:CEST
DTSTART:20270328T010000
END:DAYLIGHT
BEGIN:STANDARD
TZOFFSETFROM:+0200
TZOFFSETTO:+0100
TZNAME:CET
DTSTART:20271031T010000
END:STANDARD
END:VTIMEZONE
BEGIN:VEVENT
DTSTART;TZID=Europe/Berlin:20261010T183000
DTEND;TZID=Europe/Berlin:20261010T230000
DTSTAMP:20260423T173818
CREATED:20251205T104118Z
LAST-MODIFIED:20260326T112805Z
UID:5314-1791657000-1791673200@oldtimermanufaktur-laf.com
SUMMARY:Konzert mit Cover Nostra
DESCRIPTION:Rock- und Popsongs aus den letzten fünf Jahrzehnten\, musikalisch ganz nahe am Original\, mit Feeling und viel Liebe zum Detail gespielt. \nGespielt wird\, was rockt und Spaß macht.\nDas alles ist verpackt in eine Live-Performance\, die auch optisch einiges hergibt und die gute Laune der Band rasch aufs Publikum überspringen lässt. \nOhne Anmeldung\, ohne Kartenreservierung!
URL:https://oldtimermanufaktur-laf.com/event/konzert-mit-den-big-daddies/
LOCATION:LUZIUS AND FRIENDS GMBH\, Brunnmattenstr. 8\, Ehrenkirchen\, Baden-Württemberg\, 79238
ORGANIZER;CN="LUZIUS AND FRIENDS":MAILTO:j.gautier@oldtimermanufaktur-laf.com
END:VEVENT
BEGIN:VEVENT
DTSTART;TZID=Europe/Berlin:20261021T170000
DTEND;TZID=Europe/Berlin:20261021T210000
DTSTAMP:20260423T173818
CREATED:20251010T131932Z
LAST-MODIFIED:20251208T130621Z
UID:4805-1792602000-1792616400@oldtimermanufaktur-laf.com
SUMMARY:Benzingespräche: Oldtimer-Vibes
DESCRIPTION:Oldtimer-Vibes\, glänzendes Chrom und jede Menge Leidenschaft – jeden dritten Mittwoch im Monat öffnen wir von 17:00 bis 21:00 Uhr die Tore unserer Oldtimermanufaktur und laden euch ein\, Teil einer lebendigen Szene zu werden. \nHier geht’s um mehr als nur Autos – es geht um Geschichten\, Charaktere und das Lebensgefühl\, das nur echtes Blech vermitteln kann. \nOb erfahrener Schrauber\, frisch infizierter Enthusiast oder einfach Fan klassischer Linien – bei uns ist jeder willkommen. In lockerer Atmosphäre wird gefachsimpelt\, gestaunt und gelacht. Ihr könnt euch über aktuelle Projekte austauschen oder einfach Benzinduft und gute Gespräche genießen. \nDie Benzingespräche sind ein Treffpunkt für echte Leidenschaft. Es zählt nicht\, wer das seltenste Modell hat – sondern\, dass die Funken überspringen. \nUnsere große Halle sorgt dafür\, dass das Event bei jedem Wetter stattfindet. Einfach mit eurem Oldtimer auf den Hof rollen\, Motor abstellen\, tief durchatmen – und ankommen. Keine Anmeldung\, kein Stress – nur pure Begeisterung für klassische Automobile. \nAlso: Bringt eure Geschichten\, Anekdoten und ein bisschen Patina mit.\nGemeinsam feiern wir das\, was uns verbindet – Benzingeruch\, Nostalgie und die Liebe zu zeitlosen Maschinen. \nWir freuen uns auf euch!
URL:https://oldtimermanufaktur-laf.com/event/benzingespraeche-oldtimer-vibes-26/
LOCATION:LUZIUS AND FRIENDS GMBH\, Brunnmattenstr. 8\, Ehrenkirchen\, Baden-Württemberg\, 79238
ORGANIZER;CN="LUZIUS AND FRIENDS":MAILTO:j.gautier@oldtimermanufaktur-laf.com
END:VEVENT
END:VCALENDAR